BEGIN:VCALENDAR
VERSION:2.0
PRODID:-//Peninsula Education Foundation - ECPv6.15.20//NONSGML v1.0//EN
CALSCALE:GREGORIAN
METHOD:PUBLISH
X-WR-CALNAME:Peninsula Education Foundation
X-ORIGINAL-URL:https://pvpef.org
X-WR-CALDESC:Events for Peninsula Education Foundation
REFRESH-INTERVAL;VALUE=DURATION:PT1H
X-Robots-Tag:noindex
X-PUBLISHED-TTL:PT1H
BEGIN:VTIMEZONE
TZID:America/Los_Angeles
BEGIN:DAYLIGHT
TZOFFSETFROM:-0800
TZOFFSETTO:-0700
TZNAME:PDT
DTSTART:20250309T100000
END:DAYLIGHT
BEGIN:STANDARD
TZOFFSETFROM:-0700
TZOFFSETTO:-0800
TZNAME:PST
DTSTART:20251102T090000
END:STANDARD
BEGIN:DAYLIGHT
TZOFFSETFROM:-0800
TZOFFSETTO:-0700
TZNAME:PDT
DTSTART:20260308T100000
END:DAYLIGHT
BEGIN:STANDARD
TZOFFSETFROM:-0700
TZOFFSETTO:-0800
TZNAME:PST
DTSTART:20261101T090000
END:STANDARD
BEGIN:DAYLIGHT
TZOFFSETFROM:-0800
TZOFFSETTO:-0700
TZNAME:PDT
DTSTART:20270314T100000
END:DAYLIGHT
BEGIN:STANDARD
TZOFFSETFROM:-0700
TZOFFSETTO:-0800
TZNAME:PST
DTSTART:20271107T090000
END:STANDARD
END:VTIMEZONE
BEGIN:VEVENT
DTSTART;VALUE=DATE:20260522
DTEND;VALUE=DATE:20260523
DTSTAMP:20260422T104519
CREATED:20251023T221046Z
LAST-MODIFIED:20251023T221046Z
UID:25183-1779408000-1779494399@pvpef.org
SUMMARY:Minimum Day
DESCRIPTION:
URL:https://pvpef.org/calendar/minimum-day-3/
LOCATION:CA
ATTACH;FMTTYPE=image/png:https://pvpef.org/wp-content/uploads/2025/10/events-calander-images-2.png
END:VEVENT
BEGIN:VEVENT
DTSTART;TZID=America/Los_Angeles:20260525T000000
DTEND;TZID=America/Los_Angeles:20260525T235900
DTSTAMP:20260422T104519
CREATED:20251023T215047Z
LAST-MODIFIED:20251023T215047Z
UID:25171-1779667200-1779753540@pvpef.org
SUMMARY:Memorial Day
DESCRIPTION:
URL:https://pvpef.org/calendar/memorial-day/
LOCATION:CA
ATTACH;FMTTYPE=image/png:https://pvpef.org/wp-content/uploads/2025/10/events-calander-images-7.png
END:VEVENT
BEGIN:VEVENT
DTSTART;TZID=America/Los_Angeles:20260526T113000
DTEND;TZID=America/Los_Angeles:20260526T133000
DTSTAMP:20260422T104519
CREATED:20251024T180510Z
LAST-MODIFIED:20251024T180510Z
UID:25223-1779795000-1779802200@pvpef.org
SUMMARY:Community Scholarship Luncheon - PV High
DESCRIPTION:
URL:https://pvpef.org/calendar/community-scholarship-luncheon-pv-high/
LOCATION:CA
ATTACH;FMTTYPE=image/png:https://pvpef.org/wp-content/uploads/2025/10/21.png
END:VEVENT
BEGIN:VEVENT
DTSTART;TZID=America/Los_Angeles:20260526T121500
DTEND;TZID=America/Los_Angeles:20260526T130000
DTSTAMP:20260422T104519
CREATED:20251024T180417Z
LAST-MODIFIED:20251024T183918Z
UID:25221-1779797700-1779800400@pvpef.org
SUMMARY:Boat Races - PV High
DESCRIPTION:
URL:https://pvpef.org/calendar/boat-races-pv-high/
LOCATION:CA
ATTACH;FMTTYPE=image/png:https://pvpef.org/wp-content/uploads/2025/10/events-calander-images-19.png
END:VEVENT
BEGIN:VEVENT
DTSTART;TZID=America/Los_Angeles:20260526T173000
DTEND;TZID=America/Los_Angeles:20260526T190000
DTSTAMP:20260422T104519
CREATED:20251024T190031Z
LAST-MODIFIED:20251024T190031Z
UID:25237-1779816600-1779822000@pvpef.org
SUMMARY:Scholarship Night - Peninsula High
DESCRIPTION:
URL:https://pvpef.org/calendar/scholarship-night-peninsula-high/
LOCATION:CA
ATTACH;FMTTYPE=image/png:https://pvpef.org/wp-content/uploads/2025/10/events-calander-images-22.png
END:VEVENT
BEGIN:VEVENT
DTSTART;TZID=America/Los_Angeles:20260528T113000
DTEND;TZID=America/Los_Angeles:20260528T133000
DTSTAMP:20260422T104519
CREATED:20251024T183825Z
LAST-MODIFIED:20251024T183825Z
UID:25231-1779967800-1779975000@pvpef.org
SUMMARY:Boat Races - Peninsula High
DESCRIPTION:
URL:https://pvpef.org/calendar/boat-races-peninsula-high/
LOCATION:CA
ATTACH;FMTTYPE=image/png:https://pvpef.org/wp-content/uploads/2025/10/events-calander-images-19.png
END:VEVENT
BEGIN:VEVENT
DTSTART;TZID=America/Los_Angeles:20260530T183000
DTEND;TZID=America/Los_Angeles:20260530T223000
DTSTAMP:20260422T104519
CREATED:20251024T185806Z
LAST-MODIFIED:20251024T185806Z
UID:25234-1780165800-1780180200@pvpef.org
SUMMARY:Prom - Peninsula High
DESCRIPTION:
URL:https://pvpef.org/calendar/prom-peninsula-high/
LOCATION:CA
ATTACH;FMTTYPE=image/png:https://pvpef.org/wp-content/uploads/2025/10/events-calander-images-21.png
END:VEVENT
END:VCALENDAR