BEGIN:VCALENDAR
VERSION:2.0
PRODID:-//Peninsula Education Foundation - ECPv6.15.20//NONSGML v1.0//EN
CALSCALE:GREGORIAN
METHOD:PUBLISH
X-ORIGINAL-URL:https://pvpef.org
X-WR-CALDESC:Events for Peninsula Education Foundation
REFRESH-INTERVAL;VALUE=DURATION:PT1H
X-Robots-Tag:noindex
X-PUBLISHED-TTL:PT1H
BEGIN:VTIMEZONE
TZID:America/Los_Angeles
BEGIN:DAYLIGHT
TZOFFSETFROM:-0800
TZOFFSETTO:-0700
TZNAME:PDT
DTSTART:20250309T100000
END:DAYLIGHT
BEGIN:STANDARD
TZOFFSETFROM:-0700
TZOFFSETTO:-0800
TZNAME:PST
DTSTART:20251102T090000
END:STANDARD
BEGIN:DAYLIGHT
TZOFFSETFROM:-0800
TZOFFSETTO:-0700
TZNAME:PDT
DTSTART:20260308T100000
END:DAYLIGHT
BEGIN:STANDARD
TZOFFSETFROM:-0700
TZOFFSETTO:-0800
TZNAME:PST
DTSTART:20261101T090000
END:STANDARD
BEGIN:DAYLIGHT
TZOFFSETFROM:-0800
TZOFFSETTO:-0700
TZNAME:PDT
DTSTART:20270314T100000
END:DAYLIGHT
BEGIN:STANDARD
TZOFFSETFROM:-0700
TZOFFSETTO:-0800
TZNAME:PST
DTSTART:20271107T090000
END:STANDARD
END:VTIMEZONE
BEGIN:VEVENT
DTSTART;TZID=America/Los_Angeles:20260301T150000
DTEND;TZID=America/Los_Angeles:20260301T170000
DTSTAMP:20260422T104910
CREATED:20260128T234319Z
LAST-MODIFIED:20260128T234319Z
UID:25615-1772377200-1772384400@pvpef.org
SUMMARY:PEF Wine Gathering Party
DESCRIPTION:Join PEF for a casual afternoon at PV Wine Club in support of the PEF Online Auction (April 20-29). Bring a 95+ point bottle of wine or spirit (minimum one bottle per person) or a $95 bottle of wine and join us for a delightful afternoon of cocktails\, appetizers\, and good company! Your participation directly supports PVPUSD students and schools.
URL:https://pvpef.org/calendar/pef-wine-gathering-party/
LOCATION:PV Wine Club\, 767 Deep Valley Drive\, Rolling Hills Estates\, CA\, 90274
ATTACH;FMTTYPE=image/jpeg:https://pvpef.org/wp-content/uploads/2026/01/Wine-Gathering-Party-2026-Event-post.jpg
END:VEVENT
BEGIN:VEVENT
DTSTART;VALUE=DATE:20260304
DTEND;VALUE=DATE:20260305
DTSTAMP:20260422T104910
CREATED:20251029T165303Z
LAST-MODIFIED:20251029T165313Z
UID:25270-1772582400-1772668799@pvpef.org
SUMMARY:PEF's 1 Day 100K
DESCRIPTION:Join PEF’s 24-hour giving day to help raise $100\,000 in support of PVPUSD students and schools.
URL:https://pvpef.org/calendar/pefs-1-day-100k/
LOCATION:CA
ATTACH;FMTTYPE=image/png:https://pvpef.org/wp-content/uploads/2025/10/events-calander-images-18-1.png
END:VEVENT
BEGIN:VEVENT
DTSTART;TZID=America/Los_Angeles:20260304T180000
DTEND;TZID=America/Los_Angeles:20260304T200000
DTSTAMP:20260422T104910
CREATED:20251024T191110Z
LAST-MODIFIED:20251024T191110Z
UID:25240-1772647200-1772654400@pvpef.org
SUMMARY:5th Grade Parent Night - PVIS
DESCRIPTION:
URL:https://pvpef.org/calendar/5th-grade-parent-night-pvis/
LOCATION:CA
ATTACH;FMTTYPE=image/png:https://pvpef.org/wp-content/uploads/2025/10/events-calander-images-23.png
END:VEVENT
BEGIN:VEVENT
DTSTART;TZID=America/Los_Angeles:20260305T000000
DTEND;TZID=America/Los_Angeles:20260305T000000
DTSTAMP:20260422T104910
CREATED:20251023T222036Z
LAST-MODIFIED:20251023T222036Z
UID:25185-1772668800-1772668800@pvpef.org
SUMMARY:Parent Teacher Conferences: Grades K-5
DESCRIPTION:This is a minimum day for Grades K-5.
URL:https://pvpef.org/calendar/parent-teacher-conferences-grades-k-5/
LOCATION:CA
ATTACH;FMTTYPE=image/png:https://pvpef.org/wp-content/uploads/2025/10/events-calander-images-11.png
END:VEVENT
BEGIN:VEVENT
DTSTART;VALUE=DATE:20260313
DTEND;VALUE=DATE:20260314
DTSTAMP:20260422T104910
CREATED:20251023T230138Z
LAST-MODIFIED:20260109T152446Z
UID:25206-1773360000-1773446399@pvpef.org
SUMMARY:Catch the Wave - PV High
DESCRIPTION:Start time is TBD.
URL:https://pvpef.org/calendar/catch-the-wave-pv-high/
LOCATION:CA
ATTACH;FMTTYPE=image/png:https://pvpef.org/wp-content/uploads/2025/10/events-calander-images-16.png
END:VEVENT
BEGIN:VEVENT
DTSTART;TZID=America/Los_Angeles:20260318T173000
DTEND;TZID=America/Los_Angeles:20260318T203000
DTSTAMP:20260422T104910
CREATED:20251024T183414Z
LAST-MODIFIED:20251024T183431Z
UID:25228-1773855000-1773865800@pvpef.org
SUMMARY:Spring College Night - Peninsula High
DESCRIPTION:
URL:https://pvpef.org/calendar/spring-college-night-peninsula-high/
LOCATION:CA
ATTACH;FMTTYPE=image/png:https://pvpef.org/wp-content/uploads/2025/10/events-calander-images-18.png
END:VEVENT
BEGIN:VEVENT
DTSTART;TZID=America/Los_Angeles:20260326T153000
DTEND;TZID=America/Los_Angeles:20260326T173000
DTSTAMP:20260422T104911
CREATED:20251024T191529Z
LAST-MODIFIED:20251024T191529Z
UID:25243-1774539000-1774546200@pvpef.org
SUMMARY:International Fair - Ridgecrest
DESCRIPTION:
URL:https://pvpef.org/calendar/international-fair-ridgecrest/
LOCATION:CA
ATTACH;FMTTYPE=image/png:https://pvpef.org/wp-content/uploads/2025/10/events-calander-images-24.png
END:VEVENT
BEGIN:VEVENT
DTSTART;TZID=America/Los_Angeles:20260328T170000
DTEND;TZID=America/Los_Angeles:20260328T220000
DTSTAMP:20260422T104911
CREATED:20251023T225756Z
LAST-MODIFIED:20260109T152758Z
UID:25203-1774717200-1774735200@pvpef.org
SUMMARY:Black and Gold - Peninsula High
DESCRIPTION:
URL:https://pvpef.org/calendar/black-and-gold-peninsula-high/
LOCATION:CA
ATTACH;FMTTYPE=image/png:https://pvpef.org/wp-content/uploads/2025/10/events-calander-images-15.png
END:VEVENT
END:VCALENDAR