BEGIN:VCALENDAR
VERSION:2.0
PRODID:-//Peninsula Education Foundation - ECPv6.15.20//NONSGML v1.0//EN
CALSCALE:GREGORIAN
METHOD:PUBLISH
X-WR-CALNAME:Peninsula Education Foundation
X-ORIGINAL-URL:https://pvpef.org
X-WR-CALDESC:Events for Peninsula Education Foundation
REFRESH-INTERVAL;VALUE=DURATION:PT1H
X-Robots-Tag:noindex
X-PUBLISHED-TTL:PT1H
BEGIN:VTIMEZONE
TZID:America/Los_Angeles
BEGIN:DAYLIGHT
TZOFFSETFROM:-0800
TZOFFSETTO:-0700
TZNAME:PDT
DTSTART:20240310T100000
END:DAYLIGHT
BEGIN:STANDARD
TZOFFSETFROM:-0700
TZOFFSETTO:-0800
TZNAME:PST
DTSTART:20241103T090000
END:STANDARD
BEGIN:DAYLIGHT
TZOFFSETFROM:-0800
TZOFFSETTO:-0700
TZNAME:PDT
DTSTART:20250309T100000
END:DAYLIGHT
BEGIN:STANDARD
TZOFFSETFROM:-0700
TZOFFSETTO:-0800
TZNAME:PST
DTSTART:20251102T090000
END:STANDARD
BEGIN:DAYLIGHT
TZOFFSETFROM:-0800
TZOFFSETTO:-0700
TZNAME:PDT
DTSTART:20260308T100000
END:DAYLIGHT
BEGIN:STANDARD
TZOFFSETFROM:-0700
TZOFFSETTO:-0800
TZNAME:PST
DTSTART:20261101T090000
END:STANDARD
BEGIN:DAYLIGHT
TZOFFSETFROM:-0800
TZOFFSETTO:-0700
TZNAME:PDT
DTSTART:20270314T100000
END:DAYLIGHT
BEGIN:STANDARD
TZOFFSETFROM:-0700
TZOFFSETTO:-0800
TZNAME:PST
DTSTART:20271107T090000
END:STANDARD
END:VTIMEZONE
BEGIN:VEVENT
DTSTART;TZID=America/Los_Angeles:20251222T000000
DTEND;TZID=America/Los_Angeles:20260102T120000
DTSTAMP:20260422T134906
CREATED:20251023T213034Z
LAST-MODIFIED:20251023T213034Z
UID:25153-1766361600-1767355200@pvpef.org
SUMMARY:Winter Break
DESCRIPTION:
URL:https://pvpef.org/calendar/winter-break/
LOCATION:CA
ATTACH;FMTTYPE=image/png:https://pvpef.org/wp-content/uploads/2025/10/events-calander-images-1.png
END:VEVENT
BEGIN:VEVENT
DTSTART;TZID=America/Los_Angeles:20260108T180000
DTEND;TZID=America/Los_Angeles:20260108T203000
DTSTAMP:20260422T134906
CREATED:20251023T223440Z
LAST-MODIFIED:20251104T005959Z
UID:25196-1767895200-1767904200@pvpef.org
SUMMARY:Peninsula High Open House
DESCRIPTION:
URL:https://pvpef.org/calendar/peninsula-high-open-house/
LOCATION:CA
ATTACH;FMTTYPE=image/png:https://pvpef.org/wp-content/uploads/2025/10/events-calander-images-12.png
END:VEVENT
BEGIN:VEVENT
DTSTART;TZID=America/Los_Angeles:20260112T183000
DTEND;TZID=America/Los_Angeles:20260112T193000
DTSTAMP:20260422T134906
CREATED:20251024T175751Z
LAST-MODIFIED:20251024T175830Z
UID:25210-1768242600-1768246200@pvpef.org
SUMMARY:Principals' Forum - PV High
DESCRIPTION:
URL:https://pvpef.org/calendar/principals-forum-palos-verdes-high/
LOCATION:CA
ATTACH;FMTTYPE=image/png:https://pvpef.org/wp-content/uploads/2025/10/18.png
END:VEVENT
BEGIN:VEVENT
DTSTART;TZID=America/Los_Angeles:20260119T000000
DTEND;TZID=America/Los_Angeles:20260119T235900
DTSTAMP:20260422T134906
CREATED:20251023T214137Z
LAST-MODIFIED:20251023T214137Z
UID:25163-1768780800-1768867140@pvpef.org
SUMMARY:Martin Luther King Jr. Day
DESCRIPTION:
URL:https://pvpef.org/calendar/martin-luther-king-jr-day/
LOCATION:CA
ATTACH;FMTTYPE=image/png:https://pvpef.org/wp-content/uploads/2025/10/events-calander-images-5.png
END:VEVENT
BEGIN:VEVENT
DTSTART;TZID=America/Los_Angeles:20260122T180000
DTEND;TZID=America/Los_Angeles:20260122T203000
DTSTAMP:20260422T134906
CREATED:20251023T223255Z
LAST-MODIFIED:20251023T223255Z
UID:25192-1769104800-1769113800@pvpef.org
SUMMARY:PV High School Open House
DESCRIPTION:
URL:https://pvpef.org/calendar/pv-high-school-open-house/
LOCATION:CA
ATTACH;FMTTYPE=image/png:https://pvpef.org/wp-content/uploads/2025/10/events-calander-images-13.png
END:VEVENT
BEGIN:VEVENT
DTSTART;TZID=America/Los_Angeles:20260128T083000
DTEND;TZID=America/Los_Angeles:20260128T090000
DTSTAMP:20260422T134906
CREATED:20251024T175918Z
LAST-MODIFIED:20251024T175918Z
UID:25217-1769589000-1769590800@pvpef.org
SUMMARY:Principals' Forum - PV High
DESCRIPTION:
URL:https://pvpef.org/calendar/principals-forum-pv-high/
LOCATION:CA
ATTACH;FMTTYPE=image/png:https://pvpef.org/wp-content/uploads/2025/10/18.png
END:VEVENT
BEGIN:VEVENT
DTSTART;TZID=America/Los_Angeles:20260130T090000
DTEND;TZID=America/Los_Angeles:20260130T103000
DTSTAMP:20260422T134906
CREATED:20251106T225204Z
LAST-MODIFIED:20251106T230123Z
UID:25307-1769763600-1769769000@pvpef.org
SUMMARY:PEF REP Meeting
DESCRIPTION:Get updates on PEF events and initiatives\, share ideas\, and connect with fellow reps to support our schools.
URL:https://pvpef.org/calendar/pef-rep-meeting/
LOCATION:Peninsula Education Foundation\, 300 A Paseo del Mar\, Palos Verdes Estates\, CA\, 90274\, United States
ATTACH;FMTTYPE=image/png:https://pvpef.org/wp-content/uploads/2025/11/events-calander-images-21.png
END:VEVENT
BEGIN:VEVENT
DTSTART;TZID=America/Los_Angeles:20260131T100000
DTEND;TZID=America/Los_Angeles:20260131T120000
DTSTAMP:20260422T134906
CREATED:20251029T164521Z
LAST-MODIFIED:20260119T222401Z
UID:25264-1769853600-1769860800@pvpef.org
SUMMARY:Open House at Cornerstone
DESCRIPTION:Families are invited to visit classrooms and meet teachers during this special day at Cornerstone Elementary School.
URL:https://pvpef.org/calendar/open-house-at-cornerstone/
LOCATION:Cornerstone Elementary School\, 6069 Groveoak Place\, Rancho Palos Verdes\, CA\, 90275
ATTACH;FMTTYPE=image/png:https://pvpef.org/wp-content/uploads/2025/10/events-calander-images-17-1.png
END:VEVENT
BEGIN:VEVENT
DTSTART;TZID=America/Los_Angeles:20260131T190000
DTEND;TZID=America/Los_Angeles:20260131T220000
DTSTAMP:20260422T134906
CREATED:20251023T224115Z
LAST-MODIFIED:20260128T180104Z
UID:25198-1769886000-1769896800@pvpef.org
SUMMARY:PV High Winter Formal
DESCRIPTION:PVHS ASB is hosting Winter Formal 2026\,  “A Night in New York.” This dance is a semi-formal\, dates optional dance party! Come with a date. Come with friends. Come and have fun!
URL:https://pvpef.org/calendar/pv-high-winter-formal/
LOCATION:CA
ATTACH;FMTTYPE=image/png:https://pvpef.org/wp-content/uploads/2025/10/events-calander-images-14.png
END:VEVENT
END:VCALENDAR