BEGIN:VCALENDAR
VERSION:2.0
PRODID:-//Peninsula Education Foundation - ECPv6.15.20//NONSGML v1.0//EN
CALSCALE:GREGORIAN
METHOD:PUBLISH
X-ORIGINAL-URL:https://pvpef.org
X-WR-CALDESC:Events for Peninsula Education Foundation
REFRESH-INTERVAL;VALUE=DURATION:PT1H
X-Robots-Tag:noindex
X-PUBLISHED-TTL:PT1H
BEGIN:VTIMEZONE
TZID:America/Los_Angeles
BEGIN:DAYLIGHT
TZOFFSETFROM:-0800
TZOFFSETTO:-0700
TZNAME:PDT
DTSTART:20240310T100000
END:DAYLIGHT
BEGIN:STANDARD
TZOFFSETFROM:-0700
TZOFFSETTO:-0800
TZNAME:PST
DTSTART:20241103T090000
END:STANDARD
BEGIN:DAYLIGHT
TZOFFSETFROM:-0800
TZOFFSETTO:-0700
TZNAME:PDT
DTSTART:20250309T100000
END:DAYLIGHT
BEGIN:STANDARD
TZOFFSETFROM:-0700
TZOFFSETTO:-0800
TZNAME:PST
DTSTART:20251102T090000
END:STANDARD
BEGIN:DAYLIGHT
TZOFFSETFROM:-0800
TZOFFSETTO:-0700
TZNAME:PDT
DTSTART:20260308T100000
END:DAYLIGHT
BEGIN:STANDARD
TZOFFSETFROM:-0700
TZOFFSETTO:-0800
TZNAME:PST
DTSTART:20261101T090000
END:STANDARD
BEGIN:DAYLIGHT
TZOFFSETFROM:-0800
TZOFFSETTO:-0700
TZNAME:PDT
DTSTART:20270314T100000
END:DAYLIGHT
BEGIN:STANDARD
TZOFFSETFROM:-0700
TZOFFSETTO:-0800
TZNAME:PST
DTSTART:20271107T090000
END:STANDARD
END:VTIMEZONE
BEGIN:VEVENT
DTSTART;TZID=America/Los_Angeles:20251202T000000
DTEND;TZID=America/Los_Angeles:20251203T235900
DTSTAMP:20260422T152515
CREATED:20251023T222426Z
LAST-MODIFIED:20251023T222426Z
UID:25190-1764633600-1764806340@pvpef.org
SUMMARY:Parent Teacher Conferences: Grades 6-8
DESCRIPTION:This is a minimum day for grades 6-8.
URL:https://pvpef.org/calendar/parent-teacher-conferences-grades-6-8/
LOCATION:CA
ATTACH;FMTTYPE=image/png:https://pvpef.org/wp-content/uploads/2025/10/events-calander-images-11.png
END:VEVENT
BEGIN:VEVENT
DTSTART;TZID=America/Los_Angeles:20251202T000000
DTEND;TZID=America/Los_Angeles:20251204T235900
DTSTAMP:20260422T152515
CREATED:20251023T222249Z
LAST-MODIFIED:20251023T222249Z
UID:25188-1764633600-1764892740@pvpef.org
SUMMARY:Parent Teacher Conferences: Grades K-5
DESCRIPTION:This is a minimum day for Grades K-5.
URL:https://pvpef.org/calendar/parent-teacher-conferences-grades-k-5-2/
LOCATION:CA
ATTACH;FMTTYPE=image/png:https://pvpef.org/wp-content/uploads/2025/10/events-calander-images-11.png
END:VEVENT
BEGIN:VEVENT
DTSTART;TZID=America/Los_Angeles:20251219T000000
DTEND;TZID=America/Los_Angeles:20251219T120000
DTSTAMP:20260422T152515
CREATED:20251023T213341Z
LAST-MODIFIED:20251023T213341Z
UID:25156-1766102400-1766145600@pvpef.org
SUMMARY:Minimum Day
DESCRIPTION:
URL:https://pvpef.org/calendar/minimum-day/
LOCATION:CA
ATTACH;FMTTYPE=image/png:https://pvpef.org/wp-content/uploads/2025/10/events-calander-images-2.png
END:VEVENT
BEGIN:VEVENT
DTSTART;TZID=America/Los_Angeles:20251222T000000
DTEND;TZID=America/Los_Angeles:20260102T120000
DTSTAMP:20260422T152515
CREATED:20251023T213034Z
LAST-MODIFIED:20251023T213034Z
UID:25153-1766361600-1767355200@pvpef.org
SUMMARY:Winter Break
DESCRIPTION:
URL:https://pvpef.org/calendar/winter-break/
LOCATION:CA
ATTACH;FMTTYPE=image/png:https://pvpef.org/wp-content/uploads/2025/10/events-calander-images-1.png
END:VEVENT
END:VCALENDAR