BEGIN:VCALENDAR
VERSION:2.0
PRODID:-//Peninsula Education Foundation - ECPv6.15.20//NONSGML v1.0//EN
CALSCALE:GREGORIAN
METHOD:PUBLISH
X-ORIGINAL-URL:https://pvpef.org
X-WR-CALDESC:Events for Peninsula Education Foundation
REFRESH-INTERVAL;VALUE=DURATION:PT1H
X-Robots-Tag:noindex
X-PUBLISHED-TTL:PT1H
BEGIN:VTIMEZONE
TZID:America/Los_Angeles
BEGIN:DAYLIGHT
TZOFFSETFROM:-0800
TZOFFSETTO:-0700
TZNAME:PDT
DTSTART:20250309T100000
END:DAYLIGHT
BEGIN:STANDARD
TZOFFSETFROM:-0700
TZOFFSETTO:-0800
TZNAME:PST
DTSTART:20251102T090000
END:STANDARD
BEGIN:DAYLIGHT
TZOFFSETFROM:-0800
TZOFFSETTO:-0700
TZNAME:PDT
DTSTART:20260308T100000
END:DAYLIGHT
BEGIN:STANDARD
TZOFFSETFROM:-0700
TZOFFSETTO:-0800
TZNAME:PST
DTSTART:20261101T090000
END:STANDARD
BEGIN:DAYLIGHT
TZOFFSETFROM:-0800
TZOFFSETTO:-0700
TZNAME:PDT
DTSTART:20270314T100000
END:DAYLIGHT
BEGIN:STANDARD
TZOFFSETFROM:-0700
TZOFFSETTO:-0800
TZNAME:PST
DTSTART:20271107T090000
END:STANDARD
END:VTIMEZONE
BEGIN:VEVENT
DTSTART;TZID=America/Los_Angeles:20260528T113000
DTEND;TZID=America/Los_Angeles:20260528T133000
DTSTAMP:20260422T155219
CREATED:20251024T183825Z
LAST-MODIFIED:20251024T183825Z
UID:25231-1779967800-1779975000@pvpef.org
SUMMARY:Boat Races - Peninsula High
DESCRIPTION:
URL:https://pvpef.org/calendar/boat-races-peninsula-high/
ATTACH;FMTTYPE=image/png:https://pvpef.org/wp-content/uploads/2025/10/events-calander-images-19.png
END:VEVENT
BEGIN:VEVENT
DTSTART;TZID=America/Los_Angeles:20260530T183000
DTEND;TZID=America/Los_Angeles:20260530T223000
DTSTAMP:20260422T155219
CREATED:20251024T185806Z
LAST-MODIFIED:20251024T185806Z
UID:25234-1780165800-1780180200@pvpef.org
SUMMARY:Prom - Peninsula High
DESCRIPTION:
URL:https://pvpef.org/calendar/prom-peninsula-high/
ATTACH;FMTTYPE=image/png:https://pvpef.org/wp-content/uploads/2025/10/events-calander-images-21.png
END:VEVENT
BEGIN:VEVENT
DTSTART;VALUE=DATE:20260603
DTEND;VALUE=DATE:20260604
DTSTAMP:20260422T155219
CREATED:20251023T220852Z
LAST-MODIFIED:20251023T220852Z
UID:25177-1780444800-1780531199@pvpef.org
SUMMARY:Intermediate School Promotion
DESCRIPTION:Start time is TBD.
URL:https://pvpef.org/calendar/intermediate-school-promotion/
ATTACH;FMTTYPE=image/png:https://pvpef.org/wp-content/uploads/2025/10/events-calander-images-9.png
END:VEVENT
BEGIN:VEVENT
DTSTART;TZID=America/Los_Angeles:20260604T000000
DTEND;TZID=America/Los_Angeles:20260604T235900
DTSTAMP:20260422T155219
CREATED:20251023T215431Z
LAST-MODIFIED:20251023T215431Z
UID:25174-1780531200-1780617540@pvpef.org
SUMMARY:Last Day of School
DESCRIPTION:
URL:https://pvpef.org/calendar/last-day-of-school/
ATTACH;FMTTYPE=image/png:https://pvpef.org/wp-content/uploads/2025/10/events-calander-images-8.png
END:VEVENT
BEGIN:VEVENT
DTSTART;VALUE=DATE:20260604
DTEND;VALUE=DATE:20260605
DTSTAMP:20260422T155219
CREATED:20251023T220941Z
LAST-MODIFIED:20251023T220941Z
UID:25181-1780531200-1780617599@pvpef.org
SUMMARY:High School Graduation
DESCRIPTION:Start time TBD.
URL:https://pvpef.org/calendar/high-school-graduation/
ATTACH;FMTTYPE=image/png:https://pvpef.org/wp-content/uploads/2025/10/events-calander-images-10.png
END:VEVENT
BEGIN:VEVENT
DTSTART;TZID=America/Los_Angeles:20260926T160000
DTEND;TZID=America/Los_Angeles:20260926T210000
DTSTAMP:20260422T155219
CREATED:20260202T223457Z
LAST-MODIFIED:20260202T223518Z
UID:25642-1790438400-1790456400@pvpef.org
SUMMARY:Toast on the Coast 2026
DESCRIPTION:The Toast on the Coast fundraiser is the largest outdoor festival in Palos Verdes with a live auction\, live music\, gourmet food tastings\, premium wines\, craft beers and fun cocktails from top local restaurants and popular wineries and breweries. This much anticipated event is Saturday\, September 26 from 4-9pm. Come ready to DONATE\, DRINK AND DANCE!
URL:https://pvpef.org/calendar/toast-on-the-coast-2026/
LOCATION:Malaga Cove School\, 375 Vía Almar\, Palos Verdes Estates\, CA 90274\, Palos Verdes Estates\, CA\, 90274\, United States Minor Outlying Islands
ATTACH;FMTTYPE=image/jpeg:https://pvpef.org/wp-content/uploads/2026/02/events-calander-images.jpg
END:VEVENT
END:VCALENDAR