BEGIN:VCALENDAR
VERSION:2.0
PRODID:-//Peninsula Education Foundation - ECPv6.15.20//NONSGML v1.0//EN
CALSCALE:GREGORIAN
METHOD:PUBLISH
X-WR-CALNAME:Peninsula Education Foundation
X-ORIGINAL-URL:https://pvpef.org
X-WR-CALDESC:Events for Peninsula Education Foundation
REFRESH-INTERVAL;VALUE=DURATION:PT1H
X-Robots-Tag:noindex
X-PUBLISHED-TTL:PT1H
BEGIN:VTIMEZONE
TZID:America/Los_Angeles
BEGIN:DAYLIGHT
TZOFFSETFROM:-0800
TZOFFSETTO:-0700
TZNAME:PDT
DTSTART:20240310T100000
END:DAYLIGHT
BEGIN:STANDARD
TZOFFSETFROM:-0700
TZOFFSETTO:-0800
TZNAME:PST
DTSTART:20241103T090000
END:STANDARD
BEGIN:DAYLIGHT
TZOFFSETFROM:-0800
TZOFFSETTO:-0700
TZNAME:PDT
DTSTART:20250309T100000
END:DAYLIGHT
BEGIN:STANDARD
TZOFFSETFROM:-0700
TZOFFSETTO:-0800
TZNAME:PST
DTSTART:20251102T090000
END:STANDARD
BEGIN:DAYLIGHT
TZOFFSETFROM:-0800
TZOFFSETTO:-0700
TZNAME:PDT
DTSTART:20260308T100000
END:DAYLIGHT
BEGIN:STANDARD
TZOFFSETFROM:-0700
TZOFFSETTO:-0800
TZNAME:PST
DTSTART:20261101T090000
END:STANDARD
END:VTIMEZONE
BEGIN:VEVENT
DTSTART;TZID=America/Los_Angeles:20250918T180000
DTEND;TZID=America/Los_Angeles:20250918T200000
DTSTAMP:20260423T013944
CREATED:20250310T180537Z
LAST-MODIFIED:20250310T181338Z
UID:23547-1758218400-1758225600@pvpef.org
SUMMARY:Back to School Night - Peninsula High School
DESCRIPTION:Join us for Back to School Night and get an inside look at your child’s learning experience! Meet the teachers\, explore the curriculum\, and learn how you can support student success this year. Stay tuned for more details!
URL:https://pvpef.org/calendar/back-to-school-night-peninsula-high-school/
LOCATION:Peninsula High School\, 27118 Silver Spur Road\, Rolling HIlls Estates\, CA\, 90275\, United States
CATEGORIES:High School
ATTACH;FMTTYPE=image/png:https://pvpef.org/wp-content/uploads/2025/03/Events-calander-Pen-btsn.png
END:VEVENT
BEGIN:VEVENT
DTSTART;TZID=America/Los_Angeles:20250918T180000
DTEND;TZID=America/Los_Angeles:20250918T200000
DTSTAMP:20260423T013944
CREATED:20250310T174431Z
LAST-MODIFIED:20250310T174431Z
UID:23538-1758218400-1758225600@pvpef.org
SUMMARY:Back to School Night - Palos Verdes High School
DESCRIPTION:Join us for Back to School Night and get an inside look at your child’s learning experience! Meet the teachers\, explore the curriculum\, and learn how you can support student success this year. Stay tuned for more details!
URL:https://pvpef.org/calendar/back-to-school-night-palos-verdes-high-school/
LOCATION:Palos Verdes High School\, 600 Cloyden Road\, Palos Verdes Estates\, CA\, 90274\, United States
CATEGORIES:High School
ATTACH;FMTTYPE=image/jpeg:https://pvpef.org/wp-content/uploads/2025/03/events-calander-pvhs-btsn.jpg
END:VEVENT
END:VCALENDAR