BEGIN:VCALENDAR
VERSION:2.0
PRODID:-//Peninsula Education Foundation - ECPv6.15.20//NONSGML v1.0//EN
CALSCALE:GREGORIAN
METHOD:PUBLISH
X-WR-CALNAME:Peninsula Education Foundation
X-ORIGINAL-URL:https://pvpef.org
X-WR-CALDESC:Events for Peninsula Education Foundation
REFRESH-INTERVAL;VALUE=DURATION:PT1H
X-Robots-Tag:noindex
X-PUBLISHED-TTL:PT1H
BEGIN:VTIMEZONE
TZID:America/Los_Angeles
BEGIN:DAYLIGHT
TZOFFSETFROM:-0800
TZOFFSETTO:-0700
TZNAME:PDT
DTSTART:20250309T100000
END:DAYLIGHT
BEGIN:STANDARD
TZOFFSETFROM:-0700
TZOFFSETTO:-0800
TZNAME:PST
DTSTART:20251102T090000
END:STANDARD
BEGIN:DAYLIGHT
TZOFFSETFROM:-0800
TZOFFSETTO:-0700
TZNAME:PDT
DTSTART:20260308T100000
END:DAYLIGHT
BEGIN:STANDARD
TZOFFSETFROM:-0700
TZOFFSETTO:-0800
TZNAME:PST
DTSTART:20261101T090000
END:STANDARD
BEGIN:DAYLIGHT
TZOFFSETFROM:-0800
TZOFFSETTO:-0700
TZNAME:PDT
DTSTART:20270314T100000
END:DAYLIGHT
BEGIN:STANDARD
TZOFFSETFROM:-0700
TZOFFSETTO:-0800
TZNAME:PST
DTSTART:20271107T090000
END:STANDARD
END:VTIMEZONE
BEGIN:VEVENT
DTSTART;TZID=America/Los_Angeles:20260430T180000
DTEND;TZID=America/Los_Angeles:20260430T200000
DTSTAMP:20260422T104343
CREATED:20260128T235425Z
LAST-MODIFIED:20260128T235425Z
UID:25619-1777572000-1777579200@pvpef.org
SUMMARY:PEF's Impact Celebration
DESCRIPTION:Join Peninsula Education Foundation for a special evening recognizing the school families\, alumni\, corporate sponsors\, and real estate partners whose major-level support helps strengthen programs and staff for students across all 17 PVPUSD schools. This celebration is our way of saying thank you for the meaningful impact you make in our schools and community.
URL:https://pvpef.org/calendar/pefs-impact-celebration/
LOCATION:Point Vicente Interpretive Center\, 31501 Palos Verdes Dr W\, Rancho Palos Verdes\,\, Rancho Palos Verdes\, CA\, 90275\, United States
ATTACH;FMTTYPE=image/jpeg:https://pvpef.org/wp-content/uploads/2026/01/events-calander-images-scaled.jpg
END:VEVENT
END:VCALENDAR