BEGIN:VCALENDAR
VERSION:2.0
PRODID:-//Peninsula Education Foundation - ECPv6.15.20//NONSGML v1.0//EN
CALSCALE:GREGORIAN
METHOD:PUBLISH
X-WR-CALNAME:Peninsula Education Foundation
X-ORIGINAL-URL:https://pvpef.org
X-WR-CALDESC:Events for Peninsula Education Foundation
REFRESH-INTERVAL;VALUE=DURATION:PT1H
X-Robots-Tag:noindex
X-PUBLISHED-TTL:PT1H
BEGIN:VTIMEZONE
TZID:America/Los_Angeles
BEGIN:DAYLIGHT
TZOFFSETFROM:-0800
TZOFFSETTO:-0700
TZNAME:PDT
DTSTART:20250309T100000
END:DAYLIGHT
BEGIN:STANDARD
TZOFFSETFROM:-0700
TZOFFSETTO:-0800
TZNAME:PST
DTSTART:20251102T090000
END:STANDARD
BEGIN:DAYLIGHT
TZOFFSETFROM:-0800
TZOFFSETTO:-0700
TZNAME:PDT
DTSTART:20260308T100000
END:DAYLIGHT
BEGIN:STANDARD
TZOFFSETFROM:-0700
TZOFFSETTO:-0800
TZNAME:PST
DTSTART:20261101T090000
END:STANDARD
BEGIN:DAYLIGHT
TZOFFSETFROM:-0800
TZOFFSETTO:-0700
TZNAME:PDT
DTSTART:20270314T100000
END:DAYLIGHT
BEGIN:STANDARD
TZOFFSETFROM:-0700
TZOFFSETTO:-0800
TZNAME:PST
DTSTART:20271107T090000
END:STANDARD
END:VTIMEZONE
BEGIN:VEVENT
DTSTART;TZID=America/Los_Angeles:20260420T090000
DTEND;TZID=America/Los_Angeles:20260429T200000
DTSTAMP:20260422T104359
CREATED:20251029T170139Z
LAST-MODIFIED:20251029T170139Z
UID:25274-1776675600-1777492800@pvpef.org
SUMMARY:PEF's Online Auction
DESCRIPTION: Bid on unique items\, experiences\, and local favorites to support Peninsula Education Foundation and PVPUSD students.
URL:https://pvpef.org/calendar/pefs-online-auction/
LOCATION:CA
ATTACH;FMTTYPE=image/png:https://pvpef.org/wp-content/uploads/2025/10/events-calander-images-17-2.png
END:VEVENT
BEGIN:VEVENT
DTSTART;TZID=America/Los_Angeles:20260424T090000
DTEND;TZID=America/Los_Angeles:20260424T103000
DTSTAMP:20260422T104359
CREATED:20251106T230322Z
LAST-MODIFIED:20251106T230322Z
UID:25312-1777021200-1777026600@pvpef.org
SUMMARY:PEF Rep Meeting
DESCRIPTION:Get updates on PEF events and initiatives\, share ideas\, and connect with fellow reps to support our schools.
URL:https://pvpef.org/calendar/pef-rep-meeting-2/
LOCATION:Peninsula Education Foundation\, 300 A Paseo del Mar\, Palos Verdes Estates\, CA\, 90274\, United States
ATTACH;FMTTYPE=image/png:https://pvpef.org/wp-content/uploads/2025/11/events-calander-images-21.png
END:VEVENT
END:VCALENDAR